BEGIN:VCALENDAR
BEGIN:VEVENT
CLASS:PUBLIC
CREATED:20260420T002450
DESCRIPTION:Do the IFSP and IEP processes seem overwhelming and confusing?

Join us to learn about early intervention and special education, the terminology that is used during meetings and IFSP/IEP documents, and tips to help you successfully navigate each system. 

This workshop will be conducted using Zoom. After registering, you will receive an invitation to join the Zoom meeting.
DTEND:20240926T150000
DTSTAMP:20260420T002450
DTSTART:20240926T130000
LAST-MODIFIED:20091109T101015Z
LOCATION:(ONLINE), , , , 
SUMMARY;LANGUAGE=en-us:Navigating Early Intervention WEBINAR
BEGIN:VALARM
TRIGGER:-PT1440M
ACTION:DISPLAY
DESCRIPTION:Reminder
END:VALARM
END:VEVENT
END:VCALENDAR
