BEGIN:VCALENDAR
BEGIN:VEVENT
CLASS:PUBLIC
CREATED:20260420T002507
DESCRIPTION:This workshop provides an overview of parent and district participation in the special education assessment process. Workshop attendees will learn about the federal laws that govern special education and Section 504, the referral and assessment processes, and options for resolving disagreements.

This workshop will be conducted using Zoom. After registering, you will receive an invitation to join the Zoom meeting.
DTEND:20240912T150000
DTSTAMP:20260420T002507
DTSTART:20240912T130000
LAST-MODIFIED:20091109T101015Z
LOCATION:(ONLINE), , , , 
SUMMARY;LANGUAGE=en-us:Assessment Process WEBINAR
BEGIN:VALARM
TRIGGER:-PT1440M
ACTION:DISPLAY
DESCRIPTION:Reminder
END:VALARM
END:VEVENT
END:VCALENDAR
