BEGIN:VCALENDAR
BEGIN:VEVENT
CLASS:PUBLIC
CREATED:20260420T005952
DESCRIPTION:This workshop helps create the Individual Transition Plan (ITP) and guides the child’s journey from school to post-school life. Learn about post-secondary education, job opportunities, adult services, and community involvement. Discover the criteria and processes for Department of Rehabilitation and Regional Center applications. Plus, explore the various support options for independent living and community engagement.

This workshop will be conducted using Zoom. After registering, you will receive an invitation to join the Zoom meeting.
DTEND:20240808T150000
DTSTAMP:20260420T005952
DTSTART:20240808T130000
LAST-MODIFIED:20091109T101015Z
LOCATION:(ONLINE), , , , 
SUMMARY;LANGUAGE=en-us:Navigating the ITP and Adult Services WEBINAR
BEGIN:VALARM
TRIGGER:-PT1440M
ACTION:DISPLAY
DESCRIPTION:Reminder
END:VALARM
END:VEVENT
END:VCALENDAR
