BEGIN:VCALENDAR
BEGIN:VEVENT
CLASS:PUBLIC
CREATED:20260419T225553
DESCRIPTION:This workshop provides a detailed overview of early intervention and transition services at age three to families and professionals who serve infants and toddlers with disabilities. It also includes information about procedural safeguards and tips and pointers for a successful transition.

This workshop will be conducted using Zoom. After registering, you will receive an invitation to join the Zoom meeting.
DTEND:20241107T113000
DTSTAMP:20260419T225553
DTSTART:20241107T103000
LAST-MODIFIED:20091109T101015Z
LOCATION:(ONLINE), , , , 
SUMMARY;LANGUAGE=en-us:Early Transitions WEBINAR
BEGIN:VALARM
TRIGGER:-PT1440M
ACTION:DISPLAY
DESCRIPTION:Reminder
END:VALARM
END:VEVENT
END:VCALENDAR
