BEGIN:VCALENDAR
BEGIN:VEVENT
CLASS:PUBLIC
CREATED:20260420T003828
DESCRIPTION:Este taller ofrece una visión general de las estrategias de comunicación efectivas para los Programas de Educación Individual (IEP). Se centra en las estrategias para mejorar la colaboración con el equipo del IEP, incluyendo la preparación para las reuniones y la resolución de desacuerdos para resolver cualquier problema. Los participantes también aprenderán habilidades fundamentales de comunicación, consejos prácticos y herramientas para promover una comunicación efectiva, y cómo mejorar los resultados para satisfacer las necesidades específicas de cada estudiante.

Este taller se llevará a cabo utilizando Zoom. Después de registrarse, recibirá una invitación para unirse a la reunión de Zoom.
DTEND:20240905T113000
DTSTAMP:20260420T003828
DTSTART:20240905T103000
LAST-MODIFIED:20091109T101015Z
LOCATION:(ONLINE), , , , 
SUMMARY;LANGUAGE=en-us:Entrenamiento Especial para el Regreso a la Escuela: Comunicación efectiva del IEP WEBINAR
BEGIN:VALARM
TRIGGER:-PT1440M
ACTION:DISPLAY
DESCRIPTION:Reminder
END:VALARM
END:VEVENT
END:VCALENDAR
