BEGIN:VCALENDAR
BEGIN:VEVENT
CLASS:PUBLIC
CREATED:20260420T002634
DESCRIPTION:This workshop overviews effective communication strategies for Individual Education Programs (IEPs). It focuses on techniques to enhance collaboration with the IEP team, including preparing for meetings and navigating disagreements to resolve any issues. Participants will also learn key communication skills, practical tips and tools to foster effective communication, and how to improve outcomes to meet each student\'s unique needs.

This workshop will be conducted using Zoom. After registering, you will receive an invitation to join the Zoom meeting.
DTEND:20240905T113000
DTSTAMP:20260420T002634
DTSTART:20240905T103000
LAST-MODIFIED:20091109T101015Z
LOCATION:(ONLINE), , , , 
SUMMARY;LANGUAGE=en-us:Back to School Special: IEP Effective Communication WEBINAR
BEGIN:VALARM
TRIGGER:-PT1440M
ACTION:DISPLAY
DESCRIPTION:Reminder
END:VALARM
END:VEVENT
END:VCALENDAR
