BEGIN:VCALENDAR
BEGIN:VEVENT
CLASS:PUBLIC
CREATED:20260420T005258
DESCRIPTION:Join us for an informative workshop designed for families and professionals supporting infants and toddlers with disabilities! Discover the essentials of early intervention and transitioning at age three, including insights into the special education process post-three years old. Get practical tips for a smooth transition, ensuring a successful journey ahead!

This workshop will be conducted in partnership with San Diego Regional Center using Zoom. After registering, you will receive an invitation to join the Zoom meeting.
DTEND:20240808T200000
DTSTAMP:20260420T005258
DTSTART:20240808T180000
LAST-MODIFIED:20091109T101015Z
LOCATION:(ONLINE), , , , 
SUMMARY;LANGUAGE=en-us:Navigating Early Intervention and Special Education WEBINAR (San Diego Regional Center)
BEGIN:VALARM
TRIGGER:-PT1440M
ACTION:DISPLAY
DESCRIPTION:Reminder
END:VALARM
END:VEVENT
END:VCALENDAR
