BEGIN:VCALENDAR
BEGIN:VEVENT
CLASS:PUBLIC
CREATED:20260420T021021
DESCRIPTION:Únete a nosotros para un taller informativo diseñado para familias y profesionales que apoyan a bebés y niños pequeños con discapacidades. ¡Descubre los elementos esenciales de la intervención temprana y la transición a los tres años, incluidas las ideas sobre el proceso de educación especial después de los tres años de edad! ¡Obtén consejos prácticos para una transición sin problemas, asegurando un viaje exitoso hacia adelante!

Este taller con San Diego Regional Center se llevará a cabo utilizando Zoom. Después de registrarse, recibirá una invitación para unirse a la reunión de Zoom.
DTEND:20240711T200000
DTSTAMP:20260420T021021
DTSTART:20240711T180000
LAST-MODIFIED:20091109T101015Z
LOCATION:(ONLINE), , , , 
SUMMARY;LANGUAGE=en-us:Navegando Intervención Temprana y la Educación Especial WEBINAR (San Diego Regional Center)
BEGIN:VALARM
TRIGGER:-PT1440M
ACTION:DISPLAY
DESCRIPTION:Reminder
END:VALARM
END:VEVENT
END:VCALENDAR
