BEGIN:VCALENDAR
BEGIN:VEVENT
CLASS:PUBLIC
CREATED:20260420T023720
DESCRIPTION:This workshop helps create the Individual Transition Plan (ITP) and guides the child\'s journey from school to post-school life. Learn about post-secondary education, job opportunities, adult services, and community involvement. Discover the criteria and processes for Department of Rehabilitation and Regional Center applications. Plus, explore the various support options for independent living and community engagement.

This workshop will be conducted in partnership with San Diego Regional Center using Zoom. After registering, you will receive an invitation to join the Zoom meeting.
DTEND:20240606T200000
DTSTAMP:20260420T023720
DTSTART:20240606T180000
LAST-MODIFIED:20091109T101015Z
LOCATION:(ONLINE), , , , 
SUMMARY;LANGUAGE=en-us:Navigating the Individual Transition Plan and Adult Services WEBINAR (San Diego Regional Center)
BEGIN:VALARM
TRIGGER:-PT1440M
ACTION:DISPLAY
DESCRIPTION:Reminder
END:VALARM
END:VEVENT
END:VCALENDAR
