BEGIN:VCALENDAR
BEGIN:VEVENT
CLASS:PUBLIC
CREATED:20260420T002634
DESCRIPTION:¿Su hijo de escuela intermedia o secundaria tiene dificultades con la lectura, escritura o ambos? Si es así, acompáñenos a una presentación informativa que incluirá útiles herramientas tecnológicas útiles en línea, incluidas las extensiones de Google Chrome y sitios web.

Este taller se llevará a cabo utilizando Zoom. Después de registrarse, recibirá una invitación para unirse a la reunión de Zoom.
DTEND:20240917T113000
DTSTAMP:20260420T002634
DTSTART:20240917T100000
LAST-MODIFIED:20091109T101015Z
LOCATION:(ONLINE), , , , 
SUMMARY;LANGUAGE=en-us:Apoyos de Lectura y Escritura para la Escuela Intermedia y Secundario WEBINAR
BEGIN:VALARM
TRIGGER:-PT1440M
ACTION:DISPLAY
DESCRIPTION:Reminder
END:VALARM
END:VEVENT
END:VCALENDAR
