BEGIN:VCALENDAR
BEGIN:VEVENT
CLASS:PUBLIC
CREATED:20260420T005251
DESCRIPTION:Did you know that there are many different types of assistive technology available to people of all ages and abilities? In this webinar, we will introduce the Assistive Technology continuum and discuss the different AT categories. The technology will include examples of low-tech, medium-tech, and high-tech. Join us for a brief introduction to assistive technology and see the many options available today!

This workshop will be conducted using Zoom. After registering, you will receive an invitation to join the Zoom meeting.
DTEND:20240814T113000
DTSTAMP:20260420T005251
DTSTART:20240814T100000
LAST-MODIFIED:20091109T101015Z
LOCATION:(ONLINE), , , , 
SUMMARY;LANGUAGE=en-us:Introduction to Assistive Technology WEBINAR
BEGIN:VALARM
TRIGGER:-PT1440M
ACTION:DISPLAY
DESCRIPTION:Reminder
END:VALARM
END:VEVENT
END:VCALENDAR
