BEGIN:VCALENDAR
BEGIN:VEVENT
CLASS:PUBLIC
CREATED:20260420T033949
DESCRIPTION:¿Que Agencias Pueden Ayudar a Su Joven Con Discapacidad a Medida Que Avanza Hacia la Vida Adulta?
mayo 15, 2024 10:00 AM to 11:00 AM

¿Alguna vez te has preguntado cómo diferentes agencias, como los distritos escolares, el Departamento de Rehabilitación y los centros regionales, pueden ofrecer apoyo valioso a los jóvenes con discapacidades en su transición hacia la vida adulta? En este seminario web, se explorarán:
Los servicios de transición pre empleo disponibles para estudiantes con discapacidades
Sus derechos en relación con el empleo competitivo integrado

Este seminario web será presentado por personal de Disability Rights California. La presentadora no provee servicios de terapia ni consejos legales.

Este es un evento de Connections California. Connections California, un proyecto de Parents Helping Parents – Silicon Valley.

DTEND:20240515T110000
DTSTAMP:20260420T033949
DTSTART:20240515T100000
LAST-MODIFIED:20091109T101015Z
LOCATION:(ONLINE), , , , 
SUMMARY;LANGUAGE=en-us:Connections California en Español WEBINAR (con PHP)
BEGIN:VALARM
TRIGGER:-PT1440M
ACTION:DISPLAY
DESCRIPTION:Reminder
END:VALARM
END:VEVENT
END:VCALENDAR
