BEGIN:VCALENDAR
BEGIN:VEVENT
CLASS:PUBLIC
CREATED:20260420T034759
DESCRIPTION:¿Cómo Acceder a los Servicios Sociales Recreativos del Centro Regional?
mayo 8, 2024 10:00 AM to 11:00 AM

Obtén información detallada sobre cómo acceder a servicios sociales recreativos, conoce los requisitos que el centro regional establece para la aprobación de dichos servicios, y descubre los pasos a seguir en caso de que tu solicitud sea denegada por el centro regional.

Este seminario web será presentado por personal de Disability Rights California. La presentadora no provee servicios de terapia ni consejos legales.

Este es un evento de Connections California. Connections California, un proyecto de Parents Helping Parents – Silicon Valley.

DTEND:20240508T110000
DTSTAMP:20260420T034759
DTSTART:20240508T100000
LAST-MODIFIED:20091109T101015Z
LOCATION:(ONLINE), , , , 
SUMMARY;LANGUAGE=en-us:Connections California en Español WEBINAR (con PHP)
BEGIN:VALARM
TRIGGER:-PT1440M
ACTION:DISPLAY
DESCRIPTION:Reminder
END:VALARM
END:VEVENT
END:VCALENDAR
