BEGIN:VCALENDAR
BEGIN:VEVENT
CLASS:PUBLIC
CREATED:20260420T034109
DESCRIPTION:¿Qué es la Oficina de Defensa de los Derechos de los Clientes (OCRA), un departamento de Disability Rights California, y en qué pueden ayudar?
mayo 1, 2024 10:00 AM to 11:00 AM

¿Conoce OCRA? Descubra cómo este departamento de Disability Rights California puede ayudar a las personas con discapacidad.

La Oficina de Defensa de Derechos de los Clientes (OCRA) es parte de Disability Rights California. OCRA proporciona información legal gratuita, asesoramiento y representación a los clientes de los centros regionales. OCRA ha servido a clientes de los 21 centros regionales en todo California desde 1999. Contamos con un Defensor de Derechos de los Clientes (CRA, por sus siglas en inglés) para cada centro regional. El CRA ayuda a proteger los derechos de los clientes de los centros regionales.
Únase a Alondra Castillo, Coordinadora de Alcance para el Sur de California de Disability Rights California, mientras explica la función de la Oficina de Defensa de Derechos de los Clientes (OCRA) y cómo puede beneficiar a las personas con discapacidad.
Alondra se graduó en psicología de CSUSB en 2018. Antes de unirse a DRC, trabajó como terapeuta de ABA para niños con TEA y fue coordinadora de casos con un proveedor de respiro del centro regional, donde ayudó a familias monolingües a aprovechar sus servicios, lo que la motivó a compartir su experiencia en defensa con OCRA.

La presentadora no provee servicios de terapia ni consejos legales.

Este es un evento de Connections California. Connections California, un proyecto de Parents Helping Parents – Silicon Valley.

DTEND:20240501T110000
DTSTAMP:20260420T034109
DTSTART:20240501T100000
LAST-MODIFIED:20091109T101015Z
LOCATION:(ONLINE), , , , 
SUMMARY;LANGUAGE=en-us:Connections California en Español WEBINAR (con PHP)
BEGIN:VALARM
TRIGGER:-PT1440M
ACTION:DISPLAY
DESCRIPTION:Reminder
END:VALARM
END:VEVENT
END:VCALENDAR
