BEGIN:VCALENDAR
BEGIN:VEVENT
CLASS:PUBLIC
CREATED:20260420T040729
DESCRIPTION:¿Qué es CalABLE y cómo puede ayudar con la planificación financiera?
abril 24, 2024 6:30 PM to 7:30 PM

¿Se ha preguntado cómo tener una experiencia de vida mejor (ABLE)

Una cuenta de California Achieving Better Life Experiences (CalABLE) podría beneficiar la planificación financiera de su ser querido. Bueno, no te lo preguntes más…
Las personas con una discapacidad que ocurrió antes de cumplir 26 años son elegibles para abrir una cuenta ABLE, llamada CalABLE en California. La legislación reciente aumenta la edad de elegibilidad de los beneficiarios de cuentas ABLE desde el inicio de la discapacidad antes de los 26 años hasta los 46 años, a partir del 1 de enero de 2026.

Únase a Ken Prodger y Scott Gill del Grupo de Planificación de Necesidades Especiales mientras discuten:
• Los beneficios de abrir una cuenta ABLE o CalABLE con su ser querido como beneficiario
• ¿Para qué se pueden utilizar los fondos en una cuenta CalABLE?
• ¿Tener una cuenta CalABLE afecta la recepción de beneficios públicos como Medi-Cal o Seguridad de Ingreso Suplementario?
• ¿Quién puede abrir y contribuir a una cuenta CalABLE para un beneficiario elegible?

Este evento se presenta en inglés con interpretación en español en vivo.

Este es un evento de Connections California. Connections California es un proyecto de Parents Helping Parents, Silicon Valley.
DTEND:20240424T193000
DTSTAMP:20260420T040729
DTSTART:20240424T183000
LAST-MODIFIED:20091109T101015Z
LOCATION:(ONLINE), , , , 
SUMMARY;LANGUAGE=en-us:Connections California en Español WEBINAR (con PHP)
BEGIN:VALARM
TRIGGER:-PT1440M
ACTION:DISPLAY
DESCRIPTION:Reminder
END:VALARM
END:VEVENT
END:VCALENDAR
