BEGIN:VCALENDAR
BEGIN:VEVENT
CLASS:PUBLIC
CREATED:20260420T040856
DESCRIPTION:Toma de Decisiones Con Apoyo (SDM): ¿Que es y Cómo funciona?
abril 23, 2024 10:00 AM to 11:00 AM

La toma de decisiones con apoyo, un proceso que frecuentemente se practica informalmente por las familias y nuestro sistema de servicio, no es un procedimiento difícil. A menudo, cuando un joven con discapacidad se acerca a la edad de 18 años, se les dice erróneamente a las familias que deben buscar la tutela, sugiriendo que de lo contrario perderán la capacidad de obtener información o brindar orientación y apoyo en áreas críticas como salud, educación y otros servicios.

Contrario a esta creencia, existen diversas herramientas comúnmente utilizadas que permiten a las familias continuar proporcionando apoyo a sus seres queridos. El Proyecto de Ley 1663 de la Asamblea, en vigor desde el 1 de enero de 2023, modificó el Código de Instituciones y Bienestar de California, agregando nuevas secciones que promulgan la ley de Toma de Decisiones Apoyadas. Esta ley formaliza la toma de decisiones con apoyo para reducir la cantidad de personas a quienes, de otra manera, una tutela les quitaría sus derechos.

En este contexto, ¿qué implica exactamente la toma de decisiones con apoyo y cómo funciona este proceso? Unase a este seminario web donde se explicara más detalladamente sobre este importante tema.

Maribel Hernandez, Especialista en Alcance Comunitario en el Centro para la Excelencia en Discapacidades del Desarrollo (CEDD) del MIND Institute y madre de dos adultos jóvenes con autismo, se dedica a brindar recursos y apoyo culturalmente apropiados a las familias. Como coordinadora del grupo de padres “Vamos a Platicar”, lidera sesiones en español donde los padres comparten experiencias, aprenden sobre diagnósticos y necesidades, y trabajan hacia el máximo potencial de sus hijos. Maribel también es cofundadora de Colaboración Latina, una red de agencias en California que promueve la participación proactiva y coordina la conferencia anual en español del MIND Institute, “Aprendiendo Juntos”. Desde 2013, contribuye de manera significativa al CEDD.

Este es un evento de Connections California. Connections California, un proyecto de Parents Helping Parents – Silicon Valley.

DTEND:20240423T110000
DTSTAMP:20260420T040856
DTSTART:20240423T100000
LAST-MODIFIED:20091109T101015Z
LOCATION:(ONLINE), , , , 
SUMMARY;LANGUAGE=en-us:Connections California en Español WEBINAR (con PHP)
BEGIN:VALARM
TRIGGER:-PT1440M
ACTION:DISPLAY
DESCRIPTION:Reminder
END:VALARM
END:VEVENT
END:VCALENDAR
