BEGIN:VCALENDAR
BEGIN:VEVENT
CLASS:PUBLIC
CREATED:20260420T040734
DESCRIPTION:Seguridad Social por Discapacidad (SSDI) y Seguridad de Ingresos Suplementarios (SSI): Conceptos Básicos
abril 17, 2024 6:30 PM to 7:30 PM

Si su hijo/a tiene una discapacidad, puede calificar para recibir asistencia financiera del Seguro Social. Conozca los requisitos de elegibilidad y cómo solicitar el Seguro de Discapacidad del Seguro Social (SSDI) y la Seguridad de Ingreso Suplementario (SSI). Descubra lo que puede hacer si se le niega alguno de estos beneficios.
Únase a este seminario web para aprender los conceptos básicos sobre el Seguro de Discapacidad del Seguro Social (SSDI) y la Seguridad de Ingreso Suplementario (SSI).
Durante este seminario web, se discutirá:

Cómo solicitar SSDI y SSI
Cómo decide la Administración del Seguro Social (SSA) si su hijo/a está discapacitado
El proceso de solicitud de SSDI y SSI
Cómo presentar una queja y el proceso de apelación
Este seminario web será presentado por personal de Disability Rights California.

La presentadora no provee servicios de terapia ni consejos legales.

Este es un evento de Connections California. Connections California, un proyecto de Parents Helping Parents – Silicon Valley.

DTEND:20240417T193000
DTSTAMP:20260420T040734
DTSTART:20240417T183000
LAST-MODIFIED:20091109T101015Z
LOCATION:(ONLINE), , , , 
SUMMARY;LANGUAGE=en-us:Connections California en Español WEBINAR (con PHP)
BEGIN:VALARM
TRIGGER:-PT1440M
ACTION:DISPLAY
DESCRIPTION:Reminder
END:VALARM
END:VEVENT
END:VCALENDAR
