BEGIN:VCALENDAR
BEGIN:VEVENT
CLASS:PUBLIC
CREATED:20260420T040358
DESCRIPTION:Cómo asegurarme de que cuiden a mi ser querido después de que yo ya no esté
abril 2, 2024 6:30 PM to 7:30 PM

Proteger los bienes y beneficios de los adultos discapacitados es fundamental. La planificación financiera es útil incluso si las familias no tienen mucho dinero. De hecho, algunos profesionales podrían decir que tener un plan financiero para su ser querido con discapacidad es más importante si su familia no tiene mucho dinero.

Únase a Ken Prodger y Scott Gill del Grupo de Planificación de Necesidades Especiales para obtener una descripción general de la planificación financiera para necesidades especiales. Ellos discutirán:

• Fideicomisos para necesidades especiales y cartas de intención
• Seguridad de Ingreso Suplementario (SSI)
• Seguro de Incapacidad del Seguro Social (SSDI) con el Beneficio por Hijo Discapacitado (DAC)
• Cuentas Lograr una Experiencia de Vida Mejor (ABLE)
• Tutelas limitadas

Este evento se presenta en inglés con interpretación en español en vivo.

Este es un evento de Connections California. Connections California es un proyecto de Parents Helping Parents, Silicon Valley.

DTEND:20240402T193000
DTSTAMP:20260420T040358
DTSTART:20240402T183000
LAST-MODIFIED:20091109T101015Z
LOCATION:(ONLINE), , , , 
SUMMARY;LANGUAGE=en-us:Connections California en Español WEBINAR (con PHP)
BEGIN:VALARM
TRIGGER:-PT1440M
ACTION:DISPLAY
DESCRIPTION:Reminder
END:VALARM
END:VEVENT
END:VCALENDAR
