BEGIN:VCALENDAR
BEGIN:VEVENT
CLASS:PUBLIC
CREATED:20260420T041800
DESCRIPTION:How to Ensure My Loved One Is Taken Care of After I’m Gone
April 2, 2024 6:30 PM to 7:30 PM

Protecting disabled adults’ assets and benefits is critical. Financial planning is helpful even if families don’t have a lot of money. In fact, some professionals might say having a financial plan for your loved one with a disability is more important if your family doesn’t have a lot of money.

Please join Ken Prodger and Scott Gill of Special Needs Planning Group for a special needs financial planning overview. They will discuss:

• Special Needs Trusts and Letters of Intent
• Supplemental Security Income (SSI)
• Social Security Disability Insurance (SSDI) with the Disabled Child Benefit (DAC)
• Achieving a Better Life Experience (ABLE) accounts
• Limited Conservatorships

Throughout April, Ken and Scott will take a deeper look at each of the above topics. Please see the Spring 2024 Calendar for descriptions and registration information.

This webinar will provide live Spanish interpretation.

This is a Connections California event. Connections California is a project of Parents Helping Parents – Silicon Valley.
DTEND:20240402T193000
DTSTAMP:20260420T041800
DTSTART:20240402T183000
LAST-MODIFIED:20091109T101015Z
LOCATION:(ONLINE), , , , 
SUMMARY;LANGUAGE=en-us:Connections California: Transition to Adulthood WEBINAR (via PHP)
BEGIN:VALARM
TRIGGER:-PT1440M
ACTION:DISPLAY
DESCRIPTION:Reminder
END:VALARM
END:VEVENT
END:VCALENDAR
