BEGIN:VCALENDAR
BEGIN:VEVENT
CLASS:PUBLIC
CREATED:20260420T040316
DESCRIPTION:Judy French from PACER’s National Bullying Prevention Center will discuss the latest research and findings on bullying and bullying prevention for children with disabilities, focusing on advocacy and self-advocacy, your child’s rights, and working with the school.

This workshop will be conducted using Zoom. After registering, you will receive an invitation to join the Zoom meeting.
DTEND:20240402T143000
DTSTAMP:20260420T040316
DTSTART:20240402T130000
LAST-MODIFIED:20091109T101015Z
LOCATION:(ONLINE), , , , 
SUMMARY;LANGUAGE=en-us:Bullying Prevention with Judy French (PACER) WEBINAR
BEGIN:VALARM
TRIGGER:-PT1440M
ACTION:DISPLAY
DESCRIPTION:Reminder
END:VALARM
END:VEVENT
END:VCALENDAR
