BEGIN:VCALENDAR
BEGIN:VEVENT
CLASS:PUBLIC
CREATED:20260420T024158
DESCRIPTION:En este seminario web, presentaremos una variedad de aplicaciones especializadas y sitios web educativos. Acompáñenos a una sesión divertida e informativa.

Este taller se llevará a cabo utilizando Zoom. Después de registrarse, recibirá una invitación para unirse a la reunión de Zoom.
DTEND:20240613T153000
DTSTAMP:20260420T024158
DTSTART:20240613T140000
LAST-MODIFIED:20091109T101015Z
LOCATION:(ONLINE), , , , 
SUMMARY;LANGUAGE=en-us:Sitios Web y Aplicaciones Fantásticas y Gratuitas WEBINAR
BEGIN:VALARM
TRIGGER:-PT1440M
ACTION:DISPLAY
DESCRIPTION:Reminder
END:VALARM
END:VEVENT
END:VCALENDAR
