BEGIN:VCALENDAR
BEGIN:VEVENT
CLASS:PUBLIC
CREATED:20260420T033445
DESCRIPTION:Demostraremos aplicaciones que facilitan el aprendizaje temprano para niños pequeños con necesidades especiales, de 0 a 5 años. ¡Las aplicaciones incluirán conceptos preescolares, alfabetización temprana, habilidades de motricidad fina y más! ¡Acompáñenos a un seminario web lleno de diversión y ritmo rápido!

Este taller se llevará a cabo utilizando Zoom. Después de registrarse, recibirá una invitación para unirse a la reunión de Zoom.
DTEND:20240501T113000
DTSTAMP:20260420T033445
DTSTART:20240501T100000
LAST-MODIFIED:20091109T101015Z
LOCATION:(ONLINE), , , , 
SUMMARY;LANGUAGE=en-us:Aplicaciones para el Aprendizaje Temprano WEBINAR
BEGIN:VALARM
TRIGGER:-PT1440M
ACTION:DISPLAY
DESCRIPTION:Reminder
END:VALARM
END:VEVENT
END:VCALENDAR
