BEGIN:VCALENDAR
BEGIN:VEVENT
CLASS:PUBLIC
CREATED:20260420T040316
DESCRIPTION:Know someone that struggles with writing? In this webinar, we will demonstrate apps for handwriting, word prediction, grammar and spell check, as well as a few great tools that can assist with filling out forms and homework. Apps for elementary through High School will be shown and discussed.

This workshop will be conducted using Zoom. After registering, you will receive an invitation to join the Zoom meeting.
DTEND:20240426T113000
DTSTAMP:20260420T040316
DTSTART:20240426T100000
LAST-MODIFIED:20091109T101015Z
LOCATION:(ONLINE), , , , 
SUMMARY;LANGUAGE=en-us:Writing Apps WEBINAR
BEGIN:VALARM
TRIGGER:-PT1440M
ACTION:DISPLAY
DESCRIPTION:Reminder
END:VALARM
END:VEVENT
END:VCALENDAR
