BEGIN:VCALENDAR
BEGIN:VEVENT
CLASS:PUBLIC
CREATED:20260420T022504
DESCRIPTION:Assistive Technology (AT) may be essential for enhancing social interactions and developing essential life skills for individuals with diverse abilities and developmental delays.

This webinar will provide valuable insights and practical tips and strategies for parents, caregivers, educators, therapists, or individuals interested in using AT as an innovative tool to support and empower individuals to thrive and participate fully in society.

Please join Debbie Drennan, MSW, and AT Consultant, as she discusses:

- Introduction to Assistive Technology: Understanding the concept and its applications in promoting social interaction and life skills development.
- Social Engagement Tools: Exploring digital platforms and technologies that facilitate social connections and inclusive interactions.
- Independent Living Support: Examining assistive devices and applications designed to assist with daily activities such as budgeting, time management, and household tasks.

This workshop will be conducted using Zoom. After registering, you will receive an invitation to join the Zoom meeting.
DTEND:20240604T120000
DTSTAMP:20260420T022504
DTSTART:20240604T100000
LAST-MODIFIED:20091109T101015Z
LOCATION:(ONLINE), , , , 
SUMMARY;LANGUAGE=en-us:Tools for Social Engagement and Independent Living Support WEBINAR
BEGIN:VALARM
TRIGGER:-PT1440M
ACTION:DISPLAY
DESCRIPTION:Reminder
END:VALARM
END:VEVENT
END:VCALENDAR
