BEGIN:VCALENDAR
BEGIN:VEVENT
CLASS:PUBLIC
CREATED:20260420T023935
DESCRIPTION:Este taller ofrece una descripción general de la participación de los padres y el distrito en el proceso de evaluación de educación especial. Los asistentes al taller aprenderán sobre las leyes federales que gobiernan la educación especial y la Sección 504, el proceso de referencia y evaluación, y las opciones para resolver desacuerdos.

Este taller se llevará a cabo utilizando Zoom. Después de registrarse, recibirá una invitación para unirse a la reunión de Zoom.
DTEND:20240611T113000
DTSTAMP:20260420T023935
DTSTART:20240611T093000
LAST-MODIFIED:20091109T101015Z
LOCATION:(ONLINE), , , , 
SUMMARY;LANGUAGE=en-us:Proceso de Evaluación WEBINAR
BEGIN:VALARM
TRIGGER:-PT1440M
ACTION:DISPLAY
DESCRIPTION:Reminder
END:VALARM
END:VEVENT
END:VCALENDAR
