BEGIN:VCALENDAR
BEGIN:VEVENT
CLASS:PUBLIC
CREATED:20260420T053918
DESCRIPTION:IEP 절차가 복잡하고 혼란그럽게 느껴집니까? 특수 교육 회의 중 사용 되는 용어 및 IEP문서, 특수 교육 시스템을 성공적으로 탐색하는데 도움이 되는 팁에 대해 알아보려면 저희와 함꼐 하세요.

이 워크샵은 줌으로 진행 될 것입니다. 등록후에, 줌 미팅 참여 할 수 있 초대 장을 받으실 것 입니다.
DTEND:20240226T200000
DTSTAMP:20260420T053918
DTSTART:20240226T180000
LAST-MODIFIED:20091109T101015Z
LOCATION:(ONLINE), , , , 
SUMMARY;LANGUAGE=en-us:특수 교육 탐색 WEBINAR
BEGIN:VALARM
TRIGGER:-PT1440M
ACTION:DISPLAY
DESCRIPTION:Reminder
END:VALARM
END:VEVENT
END:VCALENDAR
