BEGIN:VCALENDAR
BEGIN:VEVENT
CLASS:PUBLIC
CREATED:20260420T034109
DESCRIPTION:You may have heard of the Individuals with Disabilities Education Act (IDEA) and Section 504 of the Rehabilitation Act, but did you know that there are other education laws that pertain to students with disabilities? Come to this workshop to learn more about these laws and how they assist your child with a disability to receive education.

This workshop will be conducted using Zoom. After registering, you will receive an invitation to join the Zoom meeting.
DTEND:20240530T150000
DTSTAMP:20260420T034109
DTSTART:20240530T130000
LAST-MODIFIED:20091109T101015Z
LOCATION:(ONLINE), , , , 
SUMMARY;LANGUAGE=en-us:Basic Rights and Responsibilities WEBINAR
BEGIN:VALARM
TRIGGER:-PT1440M
ACTION:DISPLAY
DESCRIPTION:Reminder
END:VALARM
END:VEVENT
END:VCALENDAR
