BEGIN:VCALENDAR
BEGIN:VEVENT
CLASS:PUBLIC
CREATED:20260420T040438
DESCRIPTION:Focuses on the Section 504 plan, including accommodations in school, postsecondary education and the workplace. Sample Section 504 accommodation and individual health plans are included. Positive communication techniques are interspersed throughout the workshop.

This workshop will be conducted using Zoom. After registering, you will receive an invitation to join the Zoom meeting.
DTEND:20240419T150000
DTSTAMP:20260420T040438
DTSTART:20240419T130000
LAST-MODIFIED:20091109T101015Z
LOCATION:(ONLINE), , , , 
SUMMARY;LANGUAGE=en-us:Section 504 WEBINAR
BEGIN:VALARM
TRIGGER:-PT1440M
ACTION:DISPLAY
DESCRIPTION:Reminder
END:VALARM
END:VEVENT
END:VCALENDAR
