BEGIN:VCALENDAR
BEGIN:VEVENT
CLASS:PUBLIC
CREATED:20260420T052501
DESCRIPTION:Have you ever wondered what parents can do to help plan for their child’s transition from high school to adulthood? Come join us to learn about resources and information to help you understand and participate in developing the Individual Transition Plan, work with schools and agencies such as the Social Security Administration, Department of Rehabilitation, and Regional Center to support your child as he/she transition into adulthood, and strategies to help your child live independently and become a stronger self-advocate.

This workshop will be conducted using Zoom. After registering, you will receive an invitation to join the Zoom meeting.
DTEND:20240315T150000
DTSTAMP:20260420T052501
DTSTART:20240315T130000
LAST-MODIFIED:20091109T101015Z
LOCATION:(ONLINE), , , , 
SUMMARY;LANGUAGE=en-us:Transition to Postsecondary Life WEBINAR
BEGIN:VALARM
TRIGGER:-PT1440M
ACTION:DISPLAY
DESCRIPTION:Reminder
END:VALARM
END:VEVENT
END:VCALENDAR
