BEGIN:VCALENDAR
BEGIN:VEVENT
CLASS:PUBLIC
CREATED:20260420T071143
DESCRIPTION:¿Le parece abrumador y confuso el proceso del IEP? Únase a nosotros para aprender sobre la Educación Especial, la terminología que se usa durante las reuniones y en los documentos del IEP, y consejos para ayudarlo a navegar con éxito por el sistema de educación especial Este taller se llevará a cabo utilizando Zoom. Después de registrarse, recibirá una invitación para unirse a la reunión de Zoom.

Este taller se llevará a cabo utilizando Zoom. Después de registrarse, recibirá una invitación para unirse a la reunión de Zoom.
DTEND:20240124T130000
DTSTAMP:20260420T071143
DTSTART:20240124T110000
LAST-MODIFIED:20091109T101015Z
LOCATION:(ONLINE), , , , 
SUMMARY;LANGUAGE=en-us:Navegando Educación Especial WEBINAR
BEGIN:VALARM
TRIGGER:-PT1440M
ACTION:DISPLAY
DESCRIPTION:Reminder
END:VALARM
END:VEVENT
END:VCALENDAR
