BEGIN:VCALENDAR
BEGIN:VEVENT
CLASS:PUBLIC
CREATED:20260420T053758
DESCRIPTION:Students with sensory difficulties, like those with autism, ADHD, and other diagnoses, may have trouble filtering out background noise, sitting under bright lights, show tactile defensiveness and much more. This workshop will include information about resources such as fidgets, alternative seating, reading tools, auditory devices, items for sensory stimulation, and sensory apps. Join us for a fun, informative session and leave with resources galore!

This workshop will be conducted using Zoom. After registering, you will receive an invitation to join the Zoom meeting.
DTEND:20240326T113000
DTSTAMP:20260420T053758
DTSTART:20240326T100000
LAST-MODIFIED:20091109T101015Z
LOCATION:(ONLINE), , , , 
SUMMARY;LANGUAGE=en-us:Assistive Technology for Sensory Difficulties WEBINAR
BEGIN:VALARM
TRIGGER:-PT1440M
ACTION:DISPLAY
DESCRIPTION:Reminder
END:VALARM
END:VEVENT
END:VCALENDAR
