BEGIN:VCALENDAR
BEGIN:VEVENT
CLASS:PUBLIC
CREATED:20260420T052615
DESCRIPTION:Many students don\'t have access to AAC in childhood. Some receive devices in school but outgrow them or find them inadequate. Lack of training and frustration can also lead to device abandonment. Others need new AAC systems after leaving school. This webinar will cover AAC use, resources, and ideas for teenagers and adults.

This workshop will be conducted using Zoom. After registering, you will receive an invitation to join the Zoom meeting.
DTEND:20240315T120000
DTSTAMP:20260420T052615
DTSTART:20240315T100000
LAST-MODIFIED:20091109T101015Z
LOCATION:(ONLINE), , , , 
SUMMARY;LANGUAGE=en-us:AAC for Transition-Aged Youth and Adults WEBINAR
BEGIN:VALARM
TRIGGER:-PT1440M
ACTION:DISPLAY
DESCRIPTION:Reminder
END:VALARM
END:VEVENT
END:VCALENDAR
