BEGIN:VCALENDAR
BEGIN:VEVENT
CLASS:PUBLIC
CREATED:20260420T054056
DESCRIPTION:¿Está considerando si su hija/o podría beneficiarse de la tecnología de asistencia? Acompáñenos a conocer las leyes relacionadas con los dispositivos y servicios de tecnología de asistencia, cómo solicitar una evaluación de TA, cómo es ese proceso, así como ideas para redactar objetivos del IEP relacionados con la tecnología de asistencia y una lista de recursos útiles.

Este taller se llevará a cabo utilizando Zoom. Después de registrarse, recibirá una invitación para unirse a la reunión de Zoom.
DTEND:20240227T120000
DTSTAMP:20260420T054056
DTSTART:20240227T100000
LAST-MODIFIED:20091109T101015Z
LOCATION:(ONLINE), , , , 
SUMMARY;LANGUAGE=en-us:Proceso de Evaluación de Tecnología de Asistencia WEBINAR
BEGIN:VALARM
TRIGGER:-PT1440M
ACTION:DISPLAY
DESCRIPTION:Reminder
END:VALARM
END:VEVENT
END:VCALENDAR
