BEGIN:VCALENDAR
BEGIN:VEVENT
CLASS:PUBLIC
CREATED:20260420T055721
DESCRIPTION:Are you considering whether your child could benefit from assistive technology? Join us to learn about the laws that pertain to assistive technology devices and services, how to request an AT assessment, what that process looks like, ideas for writing IEP goals pertaining to assistive technology, and a list of helpful resources.

This workshop will be conducted using Zoom. After registering, you will receive an invitation to join the Zoom meeting.
DTEND:20240223T120000
DTSTAMP:20260420T055721
DTSTART:20240223T100000
LAST-MODIFIED:20091109T101015Z
LOCATION:(ONLINE), , , , 
SUMMARY;LANGUAGE=en-us:Assistive Technology Assessment Process WEBINAR
BEGIN:VALARM
TRIGGER:-PT1440M
ACTION:DISPLAY
DESCRIPTION:Reminder
END:VALARM
END:VEVENT
END:VCALENDAR
