BEGIN:VCALENDAR
BEGIN:VEVENT
CLASS:PUBLIC
CREATED:20260420T071128
DESCRIPTION:Muchos niños (y adultos) luchan con habilidades sociales y de la vida. Únase a esta sesión, en la que demostraremos aplicaciones que pueden ayudar con estas habilidades. El enfoque de la aplicación incluirá: aseo personal, quehaceres, decir la hora, marcar el 911, habilidades sociales y más. Se mostrarán aplicaciones para varias edades.

Este taller se llevará a cabo utilizando Zoom. Después de registrarse, recibirá una invitación para unirse a la reunión de Zoom.
DTEND:20240123T113000
DTSTAMP:20260420T071128
DTSTART:20240123T100000
LAST-MODIFIED:20091109T101015Z
LOCATION:(ONLINE), , , , 
SUMMARY;LANGUAGE=en-us:Aplicaciones de Habilidades Sociales y de Vida WEBINAR
BEGIN:VALARM
TRIGGER:-PT1440M
ACTION:DISPLAY
DESCRIPTION:Reminder
END:VALARM
END:VEVENT
END:VCALENDAR
