BEGIN:VCALENDAR
BEGIN:VEVENT
CLASS:PUBLIC
CREATED:20260420T071019
DESCRIPTION:¿Sabía que existen muchos tipos diferentes de tecnología de asistencia disponibles para personas de todas las edades y capacidades? En este seminario web, presentaremos el continuo de tecnología de asistencia y platicaremos sobre las diferentes categorías de tecnología de asistencia. La tecnología incluirá ejemplos de tecnología baja, tecnología media y alta tecnología. ¡Acompáñenos para una breve introducción a la tecnología de asistencia y vea las muchas opciones disponibles hoy!

Este taller se llevará a cabo utilizando Zoom. Después de registrarse, recibirá una invitación para unirse a la reunión de Zoom.
DTEND:20240111T113000
DTSTAMP:20260420T071019
DTSTART:20240111T100000
LAST-MODIFIED:20091109T101015Z
LOCATION:(ONLINE), , , , 
SUMMARY;LANGUAGE=en-us:Introducción a la Tecnología de Asistencia WEBINAR
BEGIN:VALARM
TRIGGER:-PT1440M
ACTION:DISPLAY
DESCRIPTION:Reminder
END:VALARM
END:VEVENT
END:VCALENDAR
