BEGIN:VCALENDAR
BEGIN:VEVENT
CLASS:PUBLIC
CREATED:20260422T082518
DESCRIPTION:This webinar will provide information about the Section 504 plan, including accommodations in school as well as the difference between the Section 504 and the IEP. Join us and find out more about your rights under the Section 504 plan. Positive communication techniques are interspersed throughout the workshop.

This workshop will be conducted using Zoom. After registering, you will receive an invitation to join the Zoom meeting.
DTEND:20231127T120000
DTSTAMP:20260422T082518
DTSTART:20231127T100000
LAST-MODIFIED:20091109T101015Z
LOCATION:(ONLINE), , , , 
SUMMARY;LANGUAGE=en-us:Section 504 WEBINAR
BEGIN:VALARM
TRIGGER:-PT1440M
ACTION:DISPLAY
DESCRIPTION:Reminder
END:VALARM
END:VEVENT
END:VCALENDAR
