BEGIN:VCALENDAR
BEGIN:VEVENT
CLASS:PUBLIC
CREATED:20260420T071327
DESCRIPTION:Discusión abierta entre cuidadores sobre la autodeterminación
diciembre 7, 2023 6:00 PM to 7:15 PM

El Programa de autodeterminación (SPD) que se ofrece a los clientes del centro regional puede brindarles más libertad de elección e independencia antes y después de su transición a la edad adulta. SDP brinda a las personas y sus familias más control y responsabilidad al elegir servicios y apoyos para ayudarlos a alcanzar las metas de su vida. SDP está disponible para todas las personas elegibles que reciben servicios de un centro regional.

Únase a nosotros y a un panel de padres para escuchar lo que los padres de los clientes del centro regional que están en SDP tienen que decir sobre los beneficios y desafíos que han experimentado.

Los padres discutirán:

– ¿Cómo iniciaron el proceso y cuánto tiempo les tomó ingresar a SDP?
– ¿Tenían un plan centrado en la persona para su ser querido?
– ¿Trabajaron con un Facilitador Independiente?
– ¿Cómo encontraron y mantuvieron al personal para el SDP de sus seres queridos?
– ¿Qué hace un Servicio de Gestión Financiera y cómo lo eligieron?

Este es un evento de Connections California. Connections California, un proyecto de Parents Helping Parents – Silicon Valley
DTEND:20231207T191500
DTSTAMP:20260420T071327
DTSTART:20231207T180000
LAST-MODIFIED:20091109T101015Z
LOCATION:(ONLINE), , , , 
SUMMARY;LANGUAGE=en-us:Connections California en Español WEBINAR (con PHP)
BEGIN:VALARM
TRIGGER:-PT1440M
ACTION:DISPLAY
DESCRIPTION:Reminder
END:VALARM
END:VEVENT
END:VCALENDAR
