BEGIN:VCALENDAR
BEGIN:VEVENT
CLASS:PUBLIC
CREATED:20260422T082550
DESCRIPTION:El Poder de Decidir: Una guía práctica hacia la autodeterminación
noviembre 16, 2023 6:00 PM to 7:15 PM

¿Es su ser querido un cliente del centro regional? ¿Desea escuchar acerca de un programa que pueda brindarles más libertad de elección e independencia antes y después de su transición a la edad adulta?

El Programa de Autodeterminación (SDP) proporciona a las personas y sus familias más control y responsabilidad en la elección de servicios y apoyos para ayudarlos a alcanzar las metas de su vida. El SDP está disponible para todas las personas elegibles que reciben servicios de un centro regional.
Unase a William y Viviana Camacho, facilitadores independientes para aprender sobre los fundamentos del programa de autodeterminación.

En este seminario web se cubrirá los siguiente:

Proceso del plan centrado en la persona y cómo puede afectar tus servicios y presupuesto.
¿Es la edad un factor para ingresar al programa de autodeterminación?
Diferencias entre el enfoque tradicional y el de Autodeterminación
Cómo administrar tu presupuesto en el programa de Autodeterminación y qué puedes hacer con él, a diferencia del enfoque tradicional.
Recreación social: diferencias entre el enfoque de Autodeterminación y el tradicional.
Mitos y rumores.

William y Vivana Camacho son padres de Matthan Camacho, un participante del SDP de 8 años. Queriendo aprender más sobre SDP, Viviana y William se inscribieron en cursos de certificación de Autodeterminación durante la pandemia de COVID y comenzaron a ayudar a otras familias a inscribirse en el programa. Esto los llevó a establecer OliveYou.Love, que brinda servicios de facilitadores independientes a hablantes de español e inglés en todo California.

Este es un evento de Connections California. Connections California, un proyecto de Parents Helping Parents – Silicon Valley.
DTEND:20231116T191500
DTSTAMP:20260422T082550
DTSTART:20231116T180000
LAST-MODIFIED:20091109T101015Z
LOCATION:(ONLINE), , , , 
SUMMARY;LANGUAGE=en-us:Connections California en Español WEBINAR (con PHP)
BEGIN:VALARM
TRIGGER:-PT1440M
ACTION:DISPLAY
DESCRIPTION:Reminder
END:VALARM
END:VEVENT
END:VCALENDAR
