BEGIN:VCALENDAR
BEGIN:VEVENT
CLASS:PUBLIC
CREATED:20260422T084159
DESCRIPTION:Pubertad,Sexualidad y Discapacidad:Los comportamientos en relación a la sexualid
noviembre 15, 2023 5:00 PM to 6:30 PM

Esta es la segunda sesión de la serie de charlas: Pubertad, Sexualidad, y Discapacidad.

En esta sesión se revisarán específicamente las bases de ABA (Applied Behavior Analysis) y cómo entender comportamientos difíciles relacionados con la sexualidad. También se revisarán algunas de las estrategias más comunes que los padres pueden usar en casa.

Únase a Mariana Garcia, Doctora en Estudios de Discapacidad de la Universidad de Illinois en Chicago para entender el concepto del comportamiento y cómo se relaciona con la sexualidad.

Mariana Garcia es Colombiana y tiene una Maestría en Psicología. Ha trabajado y dirigido investigaciones en la educación de padres por más de 5 años y ha desarrollado un programa para padres de preadolescentes con Autismo el cual se evaluó en Bogotá, Colombia.

Aviso legal: Los temas que se tratan en la sesión pueden ser sensibles y delicados. La presentadora no provee servicios de terapia ni consejos legales.

Este es un evento de Connections California, un proyecto de Parents Helping Parents – Silicon Valley en colaboración de Congreso Familiar. Sus datos de registro serán recopilados por Parents Helping Parents y Congreso Familiar. Todas las agencias toman en serio la privacidad y la confidencialidad, la política de privacidad se encuentra en los sitios web.
DTEND:20231115T183000
DTSTAMP:20260422T084159
DTSTART:20231115T170000
LAST-MODIFIED:20091109T101015Z
LOCATION:(ONLINE), , , , 
SUMMARY;LANGUAGE=en-us:Connections California en Español WEBINAR (con PHP)
BEGIN:VALARM
TRIGGER:-PT1440M
ACTION:DISPLAY
DESCRIPTION:Reminder
END:VALARM
END:VEVENT
END:VCALENDAR
