BEGIN:VCALENDAR
BEGIN:VEVENT
CLASS:PUBLIC
CREATED:20260420T071327
DESCRIPTION:From Cradle to Career
December 6, 2023 4:00 PM to 5:30 PM

Parenting a little one with special needs is full of surprises. It’s overwhelming, exciting, scary, and oh-so busy – all at the same time. We hardly have time to think about what’s happening with our children tomorrow, let alone what may be happening with them as they transition into adulthood years from now.
But if we took just a little time to glimpse into the future, we’d see that preparation for our little one’s transition to adulthood could begin early by:

– Learning/understanding our little one’s needs
– Helping our families navigate acceptance of our little one’s disability
– Having high expectations for our little one’s success
– Teaching self-advocacy skills to our little ones early and often

Please join us for a discussion about our children’s journey from cradle to career.

This is a Connections California event. Connections California is a project of Parents Helping Parents – Silicon Valley.

This event is also funded in part from the Department of Developmental Services (DDS).
DTEND:20231206T173000
DTSTAMP:20260420T071327
DTSTART:20231206T160000
LAST-MODIFIED:20091109T101015Z
LOCATION:(ONLINE), , , , 
SUMMARY;LANGUAGE=en-us:Connections California: Transition to Adulthood WEBINAR (via Parents Helping Parents)
BEGIN:VALARM
TRIGGER:-PT1440M
ACTION:DISPLAY
DESCRIPTION:Reminder
END:VALARM
END:VEVENT
END:VCALENDAR
