BEGIN:VCALENDAR
BEGIN:VEVENT
CLASS:PUBLIC
CREATED:20260420T070858
DESCRIPTION:This webinar includes different types of assistive technology used for young children, from birth to age five. Topics include apps and websites that facilitate early learning, toy/book adaptations, low tech items, early AAC, and much more. Come see how your little ones can benefit from assistive technology.

This workshop will be conducted using Zoom. After registering, you will receive an invitation to join the Zoom meeting.
DTEND:20231213T120000
DTSTAMP:20260420T070858
DTSTART:20231213T100000
LAST-MODIFIED:20091109T101015Z
LOCATION:(ONLINE), , , , 
SUMMARY;LANGUAGE=en-us:AT for Early Learning WEBINAR
BEGIN:VALARM
TRIGGER:-PT1440M
ACTION:DISPLAY
DESCRIPTION:Reminder
END:VALARM
END:VEVENT
END:VCALENDAR
