BEGIN:VCALENDAR
BEGIN:VEVENT
CLASS:PUBLIC
CREATED:20260420T071214
DESCRIPTION:Is your middle or high schooler struggling with reading, writing, or both? If so, please join us for an informative presentation that will include helpful technology tools including iOS apps, Google Chrome Extensions, websites, and more!

This workshop will be conducted using Zoom. After registering, you will receive an invitation to join the Zoom meeting.
DTEND:20231201T120000
DTSTAMP:20260420T071214
DTSTART:20231201T100000
LAST-MODIFIED:20091109T101015Z
LOCATION:(ONLINE), , , , 
SUMMARY;LANGUAGE=en-us:Reading and Writing Solutions for Middle and High School WEBINAR
BEGIN:VALARM
TRIGGER:-PT1440M
ACTION:DISPLAY
DESCRIPTION:Reminder
END:VALARM
END:VEVENT
END:VCALENDAR
