BEGIN:VCALENDAR
BEGIN:VEVENT
CLASS:PUBLIC
CREATED:20260422T083134
DESCRIPTION:AAC: Parents and Professionals Working Together will present ideas, practical examples, tips, and pointers for implementing AAC across multiple settings. We will emphasize the importance of collaboration in order to best help each AAC user by working together for the common goal of individualized, person-centered AAC.

This workshop will be conducted using Zoom. After registering, you will receive an invitation to join the Zoom meeting.

DTEND:20231108T120000
DTSTAMP:20260422T083134
DTSTART:20231108T100000
LAST-MODIFIED:20091109T101015Z
LOCATION:(ONLINE), , , , 
SUMMARY;LANGUAGE=en-us:AAC: Parents and Professionals Working Together WEBINAR
BEGIN:VALARM
TRIGGER:-PT1440M
ACTION:DISPLAY
DESCRIPTION:Reminder
END:VALARM
END:VEVENT
END:VCALENDAR
