BEGIN:VCALENDAR
BEGIN:VEVENT
CLASS:PUBLIC
CREATED:20260422T113249
DESCRIPTION:Do the IFSP and IEP processes seem overwhelming and confusing? Join us to learn about Early Intervention and Special Education, the terminology that is used during meetings and in IFSP/IEP documents, and tips to help you successfully navigate each system. 

This workshop is geared for parents of children from birth to age 6. 

We will be giving away a copy of Butterfly Magic, a children\'s book written and illustrated by Anna C. Kim, to one lucky webinar participant.

This workshop will be conducted using Zoom. After registering, you will receive an invitation to join the Zoom meeting.
DTEND:20230726T160000
DTSTAMP:20260422T113249
DTSTART:20230726T140000
LAST-MODIFIED:20091109T101015Z
LOCATION:(ONLINE), , , , 
SUMMARY;LANGUAGE=en-us:Navigating Early Intervention WEBINAR
BEGIN:VALARM
TRIGGER:-PT1440M
ACTION:DISPLAY
DESCRIPTION:Reminder
END:VALARM
END:VEVENT
END:VCALENDAR
