BEGIN:VCALENDAR
BEGIN:VEVENT
CLASS:PUBLIC
CREATED:20260420T052421
DESCRIPTION:Se enfoca en el desarrollo del Plan de Transición Individualizado (ITP) y el proceso de transición de la escuela a los servicios de adultos. Explica el criterio de otros sistemas y el proceso de aplicación, i.e. la Administración del Seguro Social, Departamento de Rehabilitación, y el Centro Regional. Se discuten los apoyos para que el individuo pueda vivir independientemente y productivamente en la comunidad. Técnicas de comunicación son intercambiadas a través del taller.

Este taller se llevará a cabo utilizando Zoom. Después de registrarse, recibirá una invitación para unirse a la reunión de Zoom.
DTEND:20240307T113000
DTSTAMP:20260420T052421
DTSTART:20240307T103000
LAST-MODIFIED:20091109T101015Z
LOCATION:(ONLINE), , , , 
SUMMARY;LANGUAGE=en-us:Transición a Servicios de Adultos
BEGIN:VALARM
TRIGGER:-PT1440M
ACTION:DISPLAY
DESCRIPTION:Reminder
END:VALARM
END:VEVENT
END:VCALENDAR
