BEGIN:VCALENDAR
BEGIN:VEVENT
CLASS:PUBLIC
CREATED:20260422T100312
DESCRIPTION:En este seminario web, presentaremos dispositivos de comunicación aumentativa y alternativa de baja, media y alta tecnología y opciones variadas. Los participantes se irán con un conocimiento profundo de lo que es CAA, dónde obtenerla y quién puede beneficiarse. La copia de la presentación incluye una lista de recursos útiles de CAA.

Este taller se llevará a cabo utilizando Zoom. Después de registrarse, recibirá una invitación para unirse a la reunión de Zoom.
DTEND:20230928T120000
DTSTAMP:20260422T100312
DTSTART:20230928T100000
LAST-MODIFIED:20091109T101015Z
LOCATION:(ONLINE), , , , 
SUMMARY;LANGUAGE=en-us:Hablemos de CAA: Una Introducción WEBINAR
BEGIN:VALARM
TRIGGER:-PT1440M
ACTION:DISPLAY
DESCRIPTION:Reminder
END:VALARM
END:VEVENT
END:VCALENDAR
