BEGIN:VCALENDAR
BEGIN:VEVENT
CLASS:PUBLIC
CREATED:20260422T100133
DESCRIPTION:Join us and learn about different apps that focus on visual and auditory skills such as matching, following directions, processing and memory. The apps shown will be both educational and entertaining. Come brush up on your visual and auditory skills along with us!

ALL apps shown in this presentation are available for iDevices (iPad, iPhone, etc.). IF they are available in other platforms, it will be indicated on the slides.

This workshop will be conducted using Zoom. After registering, you will receive an invitation to join the Zoom meeting.
DTEND:20230830T113000
DTSTAMP:20260422T100133
DTSTART:20230830T100000
LAST-MODIFIED:20091109T101015Z
LOCATION:(ONLINE), , , , 
SUMMARY;LANGUAGE=en-us:Apps for Auditory and Visual Skills WEBINAR
BEGIN:VALARM
TRIGGER:-PT1440M
ACTION:DISPLAY
DESCRIPTION:Reminder
END:VALARM
END:VEVENT
END:VCALENDAR
