BEGIN:VCALENDAR
BEGIN:VEVENT
CLASS:PUBLIC
CREATED:20260422T113423
DESCRIPTION:¡Aquí en TASK tenemos más de 3300 aplicaciones de iOS! ¡Durante este seminario web, le mostraremos algunas de nuestras aplicaciones favoritas que son simplemente DIVERTIDAS! Por supuesto, muchas de ellas pueden considerarse útiles para habilidades tales como motricidad fina, arte, habilidades para la vida y más, pero, sinceramente, estas son simplemente aplicaciones que encontramos realmente entretenidas y agradables para niños y adultos.

Este taller se llevará a cabo utilizando Zoom. Después de registrarse, recibirá una invitación para unirse a la reunión de Zoom.
DTEND:20230718T113000
DTSTAMP:20260422T113423
DTSTART:20230718T100000
LAST-MODIFIED:20091109T101015Z
LOCATION:(ONLINE), , , , 
SUMMARY;LANGUAGE=en-us:¡Aplicaciones Divertidas Favoritas! WEBINAR
BEGIN:VALARM
TRIGGER:-PT1440M
ACTION:DISPLAY
DESCRIPTION:Reminder
END:VALARM
END:VEVENT
END:VCALENDAR
