BEGIN:VCALENDAR
BEGIN:VEVENT
CLASS:PUBLIC
CREATED:20260422T130045
DESCRIPTION:Helping Students with Disabilities Thrive in the World of Work
May 17, 2023 6:30 PM to 7:30 PM

Research shows that one of the top indicators of a successful transition to adulthood is the internship and/or work experience the youth had while still attending school. The California Department of Rehabilitation (DOR) Student Services are activities that support youth in exploring and preparing for employment.

Services are based on the student’s interests, and could include exploring jobs that match their strengths, learning about further education and/or training that support potential career goals, and finding, applying and interviewing for jobs – just to name a few.
Please join Nancy Wentling from DOR for an overview of this valuable program which helps prepare our youth for success in the workplace – and beyond.

This is a Connections California event. Connections California, a project of Parents Helping Parents – Silicon Valley, is made possible thanks to generous support from Santa Clara Family Health Plan.

Register:
https://www.tfaforms.com/4987299?cid=7014X0000029I4C

Live Spanish interpretation available:

Ayudando a los estudiantes con discapacidades a prosperar en el mundo laboral
mayo 17, 2023 6:30 PM to 7:30 PM

Las investigaciones muestran que uno de los indicadores principales de una transición exitosa a la edad adulta es la práctica profesional y/o la experiencia laboral que el joven tuvo mientras asistía a la escuela. Los Servicios Estudiantiles del Departamento de Rehabilitación de California (DOR) son actividades que ayudan a los jóvenes a explorar y prepararse para el empleo.

Los servicios se basan en los intereses del estudiante y podrían incluir la exploración de trabajos que coincidan con sus fortalezas, aprender sobre educación superior y/o capacitación que respalden posibles objetivos profesionales, y encontrar, solicitar y entrevistar para trabajos, solo por nombrar algunos.

Únase a Nancy Wentling de DOR para obtener una descripción general de este valioso programa que ayuda a preparar a nuestros jóvenes para el éxito en el lugar de trabajo y más allá.

Esta presentación será traducida simultáneamente al Español.

Este es un evento de Connections California. Connections California, un proyecto de Parents Helping Parents – Silicon Valley, es posible gracias al generoso apoyo del Santa Clara Family Health Plan.

Registro:
https://www.tfaforms.com/4987299?cid=7014X0000029I4H

DTEND:20230517T193000
DTSTAMP:20260422T130045
DTSTART:20230517T183000
LAST-MODIFIED:20091109T101015Z
LOCATION:(ONLINE), , , , 
SUMMARY;LANGUAGE=en-us:Connections California (in Partnership with PHP)
BEGIN:VALARM
TRIGGER:-PT1440M
ACTION:DISPLAY
DESCRIPTION:Reminder
END:VALARM
END:VEVENT
END:VCALENDAR
